BEGIN:VCALENDAR
VERSION:2.0
PRODID:-//UB-Event
TZID:Europe/Zurich
X-WR-TIMEZONE:Europe/Zurich
CALSCALE:GREGORIAN
BEGIN:VEVENT
SUMMARY:Black Cross Black Forest - Letter Writing, Food and Movie Night
UID:237488
DTSTART;TZID=Europe/Zurich;VALUE=DATE-TIME:20260426T120000
DTEND;TZID=Europe/Zurich;VALUE=DATE-TIME:20260426T140000
LAST-MODIFIED;TZID=Europe/Zurich;VALUE=DATE-TIME:20260421T071519
DTSTAMP;VALUE=DATE-TIME:20260426T120000Z
LOCATION:Linkes Zentrum adelante, Glümerstr. 2, 79102 Freiburg im Breisgau
URL://www.xn--untergrund-blttle-2qb.ch/events/237488/black-cross-black-forest-letter-writing-food-and-movie-night-linkes-zentrum-adelante-freiburg-im-breisgau.html
END:VEVENT
BEGIN:VTIMEZONE
TZID:Europe/Zurich
X-LIC-LOCATION:Europe/Zurich
BEGIN:STANDARD
DTSTART;VALUE=DATE-TIME:20260426T120000
TZNAME:CET
TZOFFSETFROM:+0200
TZOFFSETTO:+0100
END:STANDARD
BEGIN:DAYLIGHT
DTSTART;VALUE=DATE-TIME:20260426T120000
TZNAME:CEST
TZOFFSETFROM:+0100
TZOFFSETTO:+0200
END:DAYLIGHT
BEGIN:STANDARD
DTSTART;VALUE=DATE-TIME:20260426T120000
TZNAME:CET
TZOFFSETFROM:+0200
TZOFFSETTO:+0100
END:STANDARD
END:VTIMEZONE
END:VCALENDAR