BEGIN:VCALENDAR
VERSION:2.0
PRODID:-//UB-Event
TZID:Europe/Zurich
X-WR-TIMEZONE:Europe/Zurich
CALSCALE:GREGORIAN
BEGIN:VEVENT
SUMMARY:Workshop "lebendiger Boden durch Mulch"
UID:237485
DTSTART;TZID=Europe/Zurich;VALUE=DATE-TIME:20260426T080000
DTEND;TZID=Europe/Zurich;VALUE=DATE-TIME:20260426T100000
LAST-MODIFIED;TZID=Europe/Zurich;VALUE=DATE-TIME:20260421T071518
DTSTAMP;VALUE=DATE-TIME:20260426T080000Z
LOCATION:Gemeinschaftsgarten 'zusammen gärtnern', Weierweg 41, 79111 Freiburg im Breisgau
URL://www.xn--untergrund-blttle-2qb.ch/events/237485/workshop-lebendiger-boden-durch-mulch-gemeinschaftsgarten-zusammen-gaertnern-freiburg-im-breisgau.html
END:VEVENT
BEGIN:VTIMEZONE
TZID:Europe/Zurich
X-LIC-LOCATION:Europe/Zurich
BEGIN:STANDARD
DTSTART;VALUE=DATE-TIME:20260426T080000
TZNAME:CET
TZOFFSETFROM:+0200
TZOFFSETTO:+0100
END:STANDARD
BEGIN:DAYLIGHT
DTSTART;VALUE=DATE-TIME:20260426T080000
TZNAME:CEST
TZOFFSETFROM:+0100
TZOFFSETTO:+0200
END:DAYLIGHT
BEGIN:STANDARD
DTSTART;VALUE=DATE-TIME:20260426T080000
TZNAME:CET
TZOFFSETFROM:+0200
TZOFFSETTO:+0100
END:STANDARD
END:VTIMEZONE
END:VCALENDAR