BEGIN:VCALENDAR
VERSION:2.0
PRODID:-//UB-Event
TZID:Europe/Zurich
X-WR-TIMEZONE:Europe/Zurich
CALSCALE:GREGORIAN
BEGIN:VEVENT
SUMMARY:Rad-Stern-Fahrt Freiburg - Breisach
UID:237484
DTSTART;TZID=Europe/Zurich;VALUE=DATE-TIME:20260426T073000
DTEND;TZID=Europe/Zurich;VALUE=DATE-TIME:20260426T093000
LAST-MODIFIED;TZID=Europe/Zurich;VALUE=DATE-TIME:20260421T071518
DTSTAMP;VALUE=DATE-TIME:20260426T073000Z
LOCATION:Platz der Alten Synagoge, Platz der Alten Synagoge, 79098 Freiburg im Breisgau
URL://www.xn--untergrund-blttle-2qb.ch/events/237484/rad-stern-fahrt-freiburg-breisach-platz-der-alten-synagoge-freiburg-im-breisgau.html
END:VEVENT
BEGIN:VTIMEZONE
TZID:Europe/Zurich
X-LIC-LOCATION:Europe/Zurich
BEGIN:STANDARD
DTSTART;VALUE=DATE-TIME:20260426T073000
TZNAME:CET
TZOFFSETFROM:+0200
TZOFFSETTO:+0100
END:STANDARD
BEGIN:DAYLIGHT
DTSTART;VALUE=DATE-TIME:20260426T073000
TZNAME:CEST
TZOFFSETFROM:+0100
TZOFFSETTO:+0200
END:DAYLIGHT
BEGIN:STANDARD
DTSTART;VALUE=DATE-TIME:20260426T073000
TZNAME:CET
TZOFFSETFROM:+0200
TZOFFSETTO:+0100
END:STANDARD
END:VTIMEZONE
END:VCALENDAR