BEGIN:VCALENDAR
VERSION:2.0
PRODID:-//UB-Event
TZID:Europe/Zurich
X-WR-TIMEZONE:Europe/Zurich
CALSCALE:GREGORIAN
BEGIN:VEVENT
SUMMARY:BettlerChor Freiburg sucht Mitsingende
UID:237478
DTSTART;TZID=Europe/Zurich;VALUE=DATE-TIME:20260425T140000
DTEND;TZID=Europe/Zurich;VALUE=DATE-TIME:20260425T160000
LAST-MODIFIED;TZID=Europe/Zurich;VALUE=DATE-TIME:20260421T071516
DTSTAMP;VALUE=DATE-TIME:20260425T140000Z
LOCATION:Projektraum schwere(s)los, Kleineschholzweg 5, 79106 Freiburg im Breisgau
URL://www.xn--untergrund-blttle-2qb.ch/events/237478/bettlerchor-freiburg-sucht-mitsingende-projektraum-schwere-s-los-freiburg-im-breisgau.html
END:VEVENT
BEGIN:VTIMEZONE
TZID:Europe/Zurich
X-LIC-LOCATION:Europe/Zurich
BEGIN:STANDARD
DTSTART;VALUE=DATE-TIME:20260425T140000
TZNAME:CET
TZOFFSETFROM:+0200
TZOFFSETTO:+0100
END:STANDARD
BEGIN:DAYLIGHT
DTSTART;VALUE=DATE-TIME:20260425T140000
TZNAME:CEST
TZOFFSETFROM:+0100
TZOFFSETTO:+0200
END:DAYLIGHT
BEGIN:STANDARD
DTSTART;VALUE=DATE-TIME:20260425T140000
TZNAME:CET
TZOFFSETFROM:+0200
TZOFFSETTO:+0100
END:STANDARD
END:VTIMEZONE
END:VCALENDAR