BEGIN:VCALENDAR
VERSION:2.0
PRODID:-//UB-Event
TZID:Europe/Zurich
X-WR-TIMEZONE:Europe/Zurich
CALSCALE:GREGORIAN
BEGIN:VEVENT
SUMMARY:Wenn die Gedanken kreisen
UID:237475
DTSTART;TZID=Europe/Zurich;VALUE=DATE-TIME:20260424T180000
DTEND;TZID=Europe/Zurich;VALUE=DATE-TIME:20260424T200000
LAST-MODIFIED;TZID=Europe/Zurich;VALUE=DATE-TIME:20260421T071513
DTSTAMP;VALUE=DATE-TIME:20260424T180000Z
LOCATION:Schopf2, Schopfheimerstraße 2, 79115 Freiburg im Breisgau
URL://www.xn--untergrund-blttle-2qb.ch/events/237475/wenn-die-gedanken-kreisen-schopf2-freiburg-im-breisgau.html
END:VEVENT
BEGIN:VTIMEZONE
TZID:Europe/Zurich
X-LIC-LOCATION:Europe/Zurich
BEGIN:STANDARD
DTSTART;VALUE=DATE-TIME:20260424T180000
TZNAME:CET
TZOFFSETFROM:+0200
TZOFFSETTO:+0100
END:STANDARD
BEGIN:DAYLIGHT
DTSTART;VALUE=DATE-TIME:20260424T180000
TZNAME:CEST
TZOFFSETFROM:+0100
TZOFFSETTO:+0200
END:DAYLIGHT
BEGIN:STANDARD
DTSTART;VALUE=DATE-TIME:20260424T180000
TZNAME:CET
TZOFFSETFROM:+0200
TZOFFSETTO:+0100
END:STANDARD
END:VTIMEZONE
END:VCALENDAR