BEGIN:VCALENDAR
VERSION:2.0
PRODID:-//UB-Event
TZID:Europe/Zurich
X-WR-TIMEZONE:Europe/Zurich
CALSCALE:GREGORIAN
BEGIN:VEVENT
SUMMARY:Discussion on academic complicity with SfP Mainz and SfP Bonn
UID:237474
DTSTART;TZID=Europe/Zurich;VALUE=DATE-TIME:20260424T163000
DTEND;TZID=Europe/Zurich;VALUE=DATE-TIME:20260424T183000
LAST-MODIFIED;TZID=Europe/Zurich;VALUE=DATE-TIME:20260421T071513
DTSTAMP;VALUE=DATE-TIME:20260424T163000Z
LOCATION:KTS Freiburg, Baslerstraße 103, 79100 Freiburg im Breisgau
URL://www.xn--untergrund-blttle-2qb.ch/events/237474/discussion-on-academic-complicity-with-sfp-mainz-and-sfp-bonn-kts-freiburg-freiburg-im-breisgau.html
END:VEVENT
BEGIN:VTIMEZONE
TZID:Europe/Zurich
X-LIC-LOCATION:Europe/Zurich
BEGIN:STANDARD
DTSTART;VALUE=DATE-TIME:20260424T163000
TZNAME:CET
TZOFFSETFROM:+0200
TZOFFSETTO:+0100
END:STANDARD
BEGIN:DAYLIGHT
DTSTART;VALUE=DATE-TIME:20260424T163000
TZNAME:CEST
TZOFFSETFROM:+0100
TZOFFSETTO:+0200
END:DAYLIGHT
BEGIN:STANDARD
DTSTART;VALUE=DATE-TIME:20260424T163000
TZNAME:CET
TZOFFSETFROM:+0200
TZOFFSETTO:+0100
END:STANDARD
END:VTIMEZONE
END:VCALENDAR