BEGIN:VCALENDAR
VERSION:2.0
PRODID:-//UB-Event
TZID:Europe/Zurich
X-WR-TIMEZONE:Europe/Zurich
CALSCALE:GREGORIAN
BEGIN:VEVENT
SUMMARY:… Ereignisse fliessen zu Flächen zusammen
UID:237464
DTSTART;TZID=Europe/Zurich;VALUE=DATE-TIME:20260423T180000
DTEND;TZID=Europe/Zurich;VALUE=DATE-TIME:20260423T200000
LAST-MODIFIED;TZID=Europe/Zurich;VALUE=DATE-TIME:20260421T065215
DTSTAMP;VALUE=DATE-TIME:20260423T180000Z
LOCATION:Jugend(widerstands)museum, Rigaer Str. 9/10, 10247 Berlin
URL://www.xn--untergrund-blttle-2qb.ch/events/237464/ereignisse-fliessen-zu-flaechen-zusammen-jugend-widerstands-museum-berlin.html
END:VEVENT
BEGIN:VTIMEZONE
TZID:Europe/Zurich
X-LIC-LOCATION:Europe/Zurich
BEGIN:STANDARD
DTSTART;VALUE=DATE-TIME:20260423T180000
TZNAME:CET
TZOFFSETFROM:+0200
TZOFFSETTO:+0100
END:STANDARD
BEGIN:DAYLIGHT
DTSTART;VALUE=DATE-TIME:20260423T180000
TZNAME:CEST
TZOFFSETFROM:+0100
TZOFFSETTO:+0200
END:DAYLIGHT
BEGIN:STANDARD
DTSTART;VALUE=DATE-TIME:20260423T180000
TZNAME:CET
TZOFFSETFROM:+0200
TZOFFSETTO:+0100
END:STANDARD
END:VTIMEZONE
END:VCALENDAR