BEGIN:VCALENDAR
VERSION:2.0
PRODID:-//UB-Event
TZID:Europe/Zurich
X-WR-TIMEZONE:Europe/Zurich
CALSCALE:GREGORIAN
BEGIN:VEVENT
SUMMARY:Land Rights, Resilience & Feminist Opportunities of the WSF
UID:237463
DTSTART;TZID=Europe/Zurich;VALUE=DATE-TIME:20260423T170000
DTEND;TZID=Europe/Zurich;VALUE=DATE-TIME:20260423T190000
LAST-MODIFIED;TZID=Europe/Zurich;VALUE=DATE-TIME:20260421T065214
DTSTAMP;VALUE=DATE-TIME:20260423T170000Z
LOCATION:Braustube des Berlin Global Village, Am Sudhaus 2, 12053 Berlin
URL://www.xn--untergrund-blttle-2qb.ch/events/237463/land-rights-resilience-feminist-opportunities-of-the-wsf-braustube-des-berlin-global-village-berlin.html
END:VEVENT
BEGIN:VTIMEZONE
TZID:Europe/Zurich
X-LIC-LOCATION:Europe/Zurich
BEGIN:STANDARD
DTSTART;VALUE=DATE-TIME:20260423T170000
TZNAME:CET
TZOFFSETFROM:+0200
TZOFFSETTO:+0100
END:STANDARD
BEGIN:DAYLIGHT
DTSTART;VALUE=DATE-TIME:20260423T170000
TZNAME:CEST
TZOFFSETFROM:+0100
TZOFFSETTO:+0200
END:DAYLIGHT
BEGIN:STANDARD
DTSTART;VALUE=DATE-TIME:20260423T170000
TZNAME:CET
TZOFFSETFROM:+0200
TZOFFSETTO:+0100
END:STANDARD
END:VTIMEZONE
END:VCALENDAR