BEGIN:VCALENDAR
VERSION:2.0
PRODID:-//UB-Event
TZID:Europe/Zurich
X-WR-TIMEZONE:Europe/Zurich
CALSCALE:GREGORIAN
BEGIN:VEVENT
SUMMARY:Solibingo Soziale Arbeit
UID:237453
DTSTART;TZID=Europe/Zurich;VALUE=DATE-TIME:20260422T193000
DTEND;TZID=Europe/Zurich;VALUE=DATE-TIME:20260422T213000
LAST-MODIFIED;TZID=Europe/Zurich;VALUE=DATE-TIME:20260421T065209
DTSTAMP;VALUE=DATE-TIME:20260422T193000Z
LOCATION:Café Cralle, Hochstädter Str. 10A, 13347 Berlin
URL://www.xn--untergrund-blttle-2qb.ch/events/237453/solibingo-soziale-arbeit-cafe-cralle-berlin.html
END:VEVENT
BEGIN:VTIMEZONE
TZID:Europe/Zurich
X-LIC-LOCATION:Europe/Zurich
BEGIN:STANDARD
DTSTART;VALUE=DATE-TIME:20260422T193000
TZNAME:CET
TZOFFSETFROM:+0200
TZOFFSETTO:+0100
END:STANDARD
BEGIN:DAYLIGHT
DTSTART;VALUE=DATE-TIME:20260422T193000
TZNAME:CEST
TZOFFSETFROM:+0100
TZOFFSETTO:+0200
END:DAYLIGHT
BEGIN:STANDARD
DTSTART;VALUE=DATE-TIME:20260422T193000
TZNAME:CET
TZOFFSETFROM:+0200
TZOFFSETTO:+0100
END:STANDARD
END:VTIMEZONE
END:VCALENDAR