BEGIN:VCALENDAR
VERSION:2.0
PRODID:-//UB-Event
TZID:Europe/Zurich
X-WR-TIMEZONE:Europe/Zurich
CALSCALE:GREGORIAN
BEGIN:VEVENT
SUMMARY:THE RUMOURS (USA) Sie vereinen klassischen Punk-Vibe mit einer Prise Metal
UID:237438
DTSTART;TZID=Europe/Zurich;VALUE=DATE-TIME:20260521T210000
DTEND;TZID=Europe/Zurich;VALUE=DATE-TIME:20260521T230000
LAST-MODIFIED;TZID=Europe/Zurich;VALUE=DATE-TIME:20260421T063834
DTSTAMP;VALUE=DATE-TIME:20260521T210000Z
LOCATION:Schlachthaus, Schlachthausstraße, 6850 Dornbirn
URL://www.xn--untergrund-blttle-2qb.ch/events/237438/the-rumours-usa-sie-vereinen-klassischen-punk-vibe-mit-einer-prise-metal-schlachthaus-dornbirn.html
END:VEVENT
BEGIN:VTIMEZONE
TZID:Europe/Zurich
X-LIC-LOCATION:Europe/Zurich
BEGIN:STANDARD
DTSTART;VALUE=DATE-TIME:20260521T210000
TZNAME:CET
TZOFFSETFROM:+0200
TZOFFSETTO:+0100
END:STANDARD
BEGIN:DAYLIGHT
DTSTART;VALUE=DATE-TIME:20260521T210000
TZNAME:CEST
TZOFFSETFROM:+0100
TZOFFSETTO:+0200
END:DAYLIGHT
BEGIN:STANDARD
DTSTART;VALUE=DATE-TIME:20260521T210000
TZNAME:CET
TZOFFSETFROM:+0200
TZOFFSETTO:+0100
END:STANDARD
END:VTIMEZONE
END:VCALENDAR