BEGIN:VCALENDAR
VERSION:2.0
PRODID:-//UB-Event
TZID:Europe/Zurich
X-WR-TIMEZONE:Europe/Zurich
CALSCALE:GREGORIAN
BEGIN:VEVENT
SUMMARY:Estikay Manifestour 2026 Energiegeladener Hip-Hop mit Haltung und Tiefgang
UID:237425
DTSTART;TZID=Europe/Zurich;VALUE=DATE-TIME:20260521T210000
DTEND;TZID=Europe/Zurich;VALUE=DATE-TIME:20260521T230000
LAST-MODIFIED;TZID=Europe/Zurich;VALUE=DATE-TIME:20260421T063834
DTSTAMP;VALUE=DATE-TIME:20260521T210000Z
LOCATION:Ratinger Hof, Ratinger Straße 10, 40213 Düsseldorf
URL://www.xn--untergrund-blttle-2qb.ch/events/237425/estikay-manifestour-2026-energiegeladener-hip-hop-mit-haltung-und-tiefgang-ratinger-hof-duesseldorf.html
END:VEVENT
BEGIN:VTIMEZONE
TZID:Europe/Zurich
X-LIC-LOCATION:Europe/Zurich
BEGIN:STANDARD
DTSTART;VALUE=DATE-TIME:20260521T210000
TZNAME:CET
TZOFFSETFROM:+0200
TZOFFSETTO:+0100
END:STANDARD
BEGIN:DAYLIGHT
DTSTART;VALUE=DATE-TIME:20260521T210000
TZNAME:CEST
TZOFFSETFROM:+0100
TZOFFSETTO:+0200
END:DAYLIGHT
BEGIN:STANDARD
DTSTART;VALUE=DATE-TIME:20260521T210000
TZNAME:CET
TZOFFSETFROM:+0200
TZOFFSETTO:+0100
END:STANDARD
END:VTIMEZONE
END:VCALENDAR