BEGIN:VCALENDAR
VERSION:2.0
PRODID:-//UB-Event
TZID:Europe/Zurich
X-WR-TIMEZONE:Europe/Zurich
CALSCALE:GREGORIAN
BEGIN:VEVENT
SUMMARY:Jan Plewka singt Rio Reiser, Teil 1 "Lass uns ein Wunder sein"
UID:237417
DTSTART;TZID=Europe/Zurich;VALUE=DATE-TIME:20260521T210000
DTEND;TZID=Europe/Zurich;VALUE=DATE-TIME:20260521T230000
LAST-MODIFIED;TZID=Europe/Zurich;VALUE=DATE-TIME:20260421T063834
DTSTAMP;VALUE=DATE-TIME:20260521T210000Z
LOCATION:Infoladen Magazin, Sankt-Pauli-Straße 10-12, 28203 Bremen
URL://www.xn--untergrund-blttle-2qb.ch/events/237417/jan-plewka-singt-rio-reiser-teil-1-lass-uns-ein-wunder-sein-infoladen-magazin-bremen.html
END:VEVENT
BEGIN:VTIMEZONE
TZID:Europe/Zurich
X-LIC-LOCATION:Europe/Zurich
BEGIN:STANDARD
DTSTART;VALUE=DATE-TIME:20260521T210000
TZNAME:CET
TZOFFSETFROM:+0200
TZOFFSETTO:+0100
END:STANDARD
BEGIN:DAYLIGHT
DTSTART;VALUE=DATE-TIME:20260521T210000
TZNAME:CEST
TZOFFSETFROM:+0100
TZOFFSETTO:+0200
END:DAYLIGHT
BEGIN:STANDARD
DTSTART;VALUE=DATE-TIME:20260521T210000
TZNAME:CET
TZOFFSETFROM:+0200
TZOFFSETTO:+0100
END:STANDARD
END:VTIMEZONE
END:VCALENDAR