BEGIN:VCALENDAR
VERSION:2.0
PRODID:-//UB-Event
TZID:Europe/Zurich
X-WR-TIMEZONE:Europe/Zurich
CALSCALE:GREGORIAN
BEGIN:VEVENT
SUMMARY:LOTinConcert: Rysouke Kiyasu
UID:237409
DTSTART;TZID=Europe/Zurich;VALUE=DATE-TIME:20260429T200000
DTEND;TZID=Europe/Zurich;VALUE=DATE-TIME:20260429T220000
LAST-MODIFIED;TZID=Europe/Zurich;VALUE=DATE-TIME:20260422T060928
DTSTAMP;VALUE=DATE-TIME:20260429T200000Z
LOCATION:Das LOT, Absberggasse 31, 1100 Wien
URL://www.xn--untergrund-blttle-2qb.ch/events/237409/lotinconcert-rysouke-kiyasu-das-lot-wien.html
END:VEVENT
BEGIN:VTIMEZONE
TZID:Europe/Zurich
X-LIC-LOCATION:Europe/Zurich
BEGIN:STANDARD
DTSTART;VALUE=DATE-TIME:20260429T200000
TZNAME:CET
TZOFFSETFROM:+0200
TZOFFSETTO:+0100
END:STANDARD
BEGIN:DAYLIGHT
DTSTART;VALUE=DATE-TIME:20260429T200000
TZNAME:CEST
TZOFFSETFROM:+0100
TZOFFSETTO:+0200
END:DAYLIGHT
BEGIN:STANDARD
DTSTART;VALUE=DATE-TIME:20260429T200000
TZNAME:CET
TZOFFSETFROM:+0200
TZOFFSETTO:+0100
END:STANDARD
END:VTIMEZONE
END:VCALENDAR