BEGIN:VCALENDAR
VERSION:2.0
PRODID:-//UB-Event
TZID:Europe/Zurich
X-WR-TIMEZONE:Europe/Zurich
CALSCALE:GREGORIAN
BEGIN:VEVENT
SUMMARY:One Night of Taylor The Eras Experience - Taylor Swift Tribute by Xenna
UID:237404
DTSTART;TZID=Europe/Zurich;VALUE=DATE-TIME:20260521T210000
DTEND;TZID=Europe/Zurich;VALUE=DATE-TIME:20260521T230000
LAST-MODIFIED;TZID=Europe/Zurich;VALUE=DATE-TIME:20260421T063833
DTSTAMP;VALUE=DATE-TIME:20260521T210000Z
LOCATION:Tempodrom, Möckernstraße 10, 10963 Berlin
URL://www.xn--untergrund-blttle-2qb.ch/events/237404/one-night-of-taylor-the-eras-experience-taylor-swift-tribute-by-xenna-tempodrom-berlin.html
END:VEVENT
BEGIN:VTIMEZONE
TZID:Europe/Zurich
X-LIC-LOCATION:Europe/Zurich
BEGIN:STANDARD
DTSTART;VALUE=DATE-TIME:20260521T210000
TZNAME:CET
TZOFFSETFROM:+0200
TZOFFSETTO:+0100
END:STANDARD
BEGIN:DAYLIGHT
DTSTART;VALUE=DATE-TIME:20260521T210000
TZNAME:CEST
TZOFFSETFROM:+0100
TZOFFSETTO:+0200
END:DAYLIGHT
BEGIN:STANDARD
DTSTART;VALUE=DATE-TIME:20260521T210000
TZNAME:CET
TZOFFSETFROM:+0200
TZOFFSETTO:+0100
END:STANDARD
END:VTIMEZONE
END:VCALENDAR