BEGIN:VCALENDAR
VERSION:2.0
PRODID:-//UB-Event
TZID:Europe/Zurich
X-WR-TIMEZONE:Europe/Zurich
CALSCALE:GREGORIAN
BEGIN:VEVENT
SUMMARY:Subway Park " (Indie - Berlin) " The River Speaks " (Indie - Berlin)
UID:237385
DTSTART;TZID=Europe/Zurich;VALUE=DATE-TIME:20260514T210000
DTEND;TZID=Europe/Zurich;VALUE=DATE-TIME:20260514T230000
LAST-MODIFIED;TZID=Europe/Zurich;VALUE=DATE-TIME:20260421T063828
DTSTAMP;VALUE=DATE-TIME:20260514T210000Z
LOCATION:Wild At Heart, Wiener Straße 20, 10999 Berlin
URL://www.xn--untergrund-blttle-2qb.ch/events/237385/subway-park-indie-berlin-the-river-speaks-indie-berlin-wild-at-heart-berlin.html
END:VEVENT
BEGIN:VTIMEZONE
TZID:Europe/Zurich
X-LIC-LOCATION:Europe/Zurich
BEGIN:STANDARD
DTSTART;VALUE=DATE-TIME:20260514T210000
TZNAME:CET
TZOFFSETFROM:+0200
TZOFFSETTO:+0100
END:STANDARD
BEGIN:DAYLIGHT
DTSTART;VALUE=DATE-TIME:20260514T210000
TZNAME:CEST
TZOFFSETFROM:+0100
TZOFFSETTO:+0200
END:DAYLIGHT
BEGIN:STANDARD
DTSTART;VALUE=DATE-TIME:20260514T210000
TZNAME:CET
TZOFFSETFROM:+0200
TZOFFSETTO:+0100
END:STANDARD
END:VTIMEZONE
END:VCALENDAR