BEGIN:VCALENDAR
VERSION:2.0
PRODID:-//UB-Event
TZID:Europe/Zurich
X-WR-TIMEZONE:Europe/Zurich
CALSCALE:GREGORIAN
BEGIN:VEVENT
SUMMARY:FAZE (can) / ANNAPURA (mex) / SPIRITUAL LAW (d/aut) / EXCEPTION
UID:237384
DTSTART;TZID=Europe/Zurich;VALUE=DATE-TIME:20260429T180000
DTEND;TZID=Europe/Zurich;VALUE=DATE-TIME:20260429T200000
LAST-MODIFIED;TZID=Europe/Zurich;VALUE=DATE-TIME:20260422T060923
DTSTAMP;VALUE=DATE-TIME:20260429T180000Z
LOCATION:KAPU, Kapuzinerstraße 36, 4021 Linz
URL://www.xn--untergrund-blttle-2qb.ch/events/237384/faze-can-annapura-mex-spiritual-law-d-aut-exception-kapu-linz.html
END:VEVENT
BEGIN:VTIMEZONE
TZID:Europe/Zurich
X-LIC-LOCATION:Europe/Zurich
BEGIN:STANDARD
DTSTART;VALUE=DATE-TIME:20260429T180000
TZNAME:CET
TZOFFSETFROM:+0200
TZOFFSETTO:+0100
END:STANDARD
BEGIN:DAYLIGHT
DTSTART;VALUE=DATE-TIME:20260429T180000
TZNAME:CEST
TZOFFSETFROM:+0100
TZOFFSETTO:+0200
END:DAYLIGHT
BEGIN:STANDARD
DTSTART;VALUE=DATE-TIME:20260429T180000
TZNAME:CET
TZOFFSETFROM:+0200
TZOFFSETTO:+0100
END:STANDARD
END:VTIMEZONE
END:VCALENDAR