BEGIN:VCALENDAR
VERSION:2.0
PRODID:-//UB-Event
TZID:Europe/Zurich
X-WR-TIMEZONE:Europe/Zurich
CALSCALE:GREGORIAN
BEGIN:VEVENT
SUMMARY:SträkelCLUB im LEERSTAND
UID:237360
DTSTART;TZID=Europe/Zurich;VALUE=DATE-TIME:20260422T143000
DTEND;TZID=Europe/Zurich;VALUE=DATE-TIME:20260422T163000
LAST-MODIFIED;TZID=Europe/Zurich;VALUE=DATE-TIME:20260420T070021
DTSTAMP;VALUE=DATE-TIME:20260422T143000Z
LOCATION:kitev, Willy-Brandt-Platz 1, 46045 Oberhausen
URL://www.xn--untergrund-blttle-2qb.ch/events/237360/straekelclub-im-leerstand-kitev-oberhausen.html
END:VEVENT
BEGIN:VTIMEZONE
TZID:Europe/Zurich
X-LIC-LOCATION:Europe/Zurich
BEGIN:STANDARD
DTSTART;VALUE=DATE-TIME:20260422T143000
TZNAME:CET
TZOFFSETFROM:+0200
TZOFFSETTO:+0100
END:STANDARD
BEGIN:DAYLIGHT
DTSTART;VALUE=DATE-TIME:20260422T143000
TZNAME:CEST
TZOFFSETFROM:+0100
TZOFFSETTO:+0200
END:DAYLIGHT
BEGIN:STANDARD
DTSTART;VALUE=DATE-TIME:20260422T143000
TZNAME:CET
TZOFFSETFROM:+0200
TZOFFSETTO:+0100
END:STANDARD
END:VTIMEZONE
END:VCALENDAR