BEGIN:VCALENDAR
VERSION:2.0
PRODID:-//UB-Event
TZID:Europe/Zurich
X-WR-TIMEZONE:Europe/Zurich
CALSCALE:GREGORIAN
BEGIN:VEVENT
SUMMARY:Palantir als Baustein der autoritären Wende
UID:237345
DTSTART;TZID=Europe/Zurich;VALUE=DATE-TIME:20260430T180000
DTEND;TZID=Europe/Zurich;VALUE=DATE-TIME:20260430T200000
LAST-MODIFIED;TZID=Europe/Zurich;VALUE=DATE-TIME:20260423T054812
DTSTAMP;VALUE=DATE-TIME:20260430T180000Z
LOCATION:TRIANGEL, Kaiserstraße 93, 76133 Karlsruhe
URL://www.xn--untergrund-blttle-2qb.ch/events/237345/palantir-als-baustein-der-autoritaeren-wende-triangel-karlsruhe.html
END:VEVENT
BEGIN:VTIMEZONE
TZID:Europe/Zurich
X-LIC-LOCATION:Europe/Zurich
BEGIN:STANDARD
DTSTART;VALUE=DATE-TIME:20260430T180000
TZNAME:CET
TZOFFSETFROM:+0200
TZOFFSETTO:+0100
END:STANDARD
BEGIN:DAYLIGHT
DTSTART;VALUE=DATE-TIME:20260430T180000
TZNAME:CEST
TZOFFSETFROM:+0100
TZOFFSETTO:+0200
END:DAYLIGHT
BEGIN:STANDARD
DTSTART;VALUE=DATE-TIME:20260430T180000
TZNAME:CET
TZOFFSETFROM:+0200
TZOFFSETTO:+0100
END:STANDARD
END:VTIMEZONE
END:VCALENDAR