BEGIN:VCALENDAR
VERSION:2.0
PRODID:-//UB-Event
TZID:Europe/Zurich
X-WR-TIMEZONE:Europe/Zurich
CALSCALE:GREGORIAN
BEGIN:VEVENT
SUMMARY:PEACHES „No Lube So Rude Tour 2026" & Support: BLEACH & THE BUNGHOLES
UID:237342
DTSTART;TZID=Europe/Zurich;VALUE=DATE-TIME:20260506T210000
DTEND;TZID=Europe/Zurich;VALUE=DATE-TIME:20260506T230000
LAST-MODIFIED;TZID=Europe/Zurich;VALUE=DATE-TIME:20260421T063818
DTSTAMP;VALUE=DATE-TIME:20260506T210000Z
LOCATION:Astral Junction, Rigaer Strasse 105, 10247 Berlin
URL://www.xn--untergrund-blttle-2qb.ch/events/237342/peaches-no-lube-so-rude-tour-2026-support-bleach-the-bungholes-astral-junction-berlin.html
END:VEVENT
BEGIN:VTIMEZONE
TZID:Europe/Zurich
X-LIC-LOCATION:Europe/Zurich
BEGIN:STANDARD
DTSTART;VALUE=DATE-TIME:20260506T210000
TZNAME:CET
TZOFFSETFROM:+0200
TZOFFSETTO:+0100
END:STANDARD
BEGIN:DAYLIGHT
DTSTART;VALUE=DATE-TIME:20260506T210000
TZNAME:CEST
TZOFFSETFROM:+0100
TZOFFSETTO:+0200
END:DAYLIGHT
BEGIN:STANDARD
DTSTART;VALUE=DATE-TIME:20260506T210000
TZNAME:CET
TZOFFSETFROM:+0200
TZOFFSETTO:+0100
END:STANDARD
END:VTIMEZONE
END:VCALENDAR