BEGIN:VCALENDAR
VERSION:2.0
PRODID:-//UB-Event
TZID:Europe/Zurich
X-WR-TIMEZONE:Europe/Zurich
CALSCALE:GREGORIAN
BEGIN:VEVENT
SUMMARY:Minami Deutsch ist eine Krautrock-Band aus Tokio, Japan
UID:237336
DTSTART;TZID=Europe/Zurich;VALUE=DATE-TIME:20260503T210000
DTEND;TZID=Europe/Zurich;VALUE=DATE-TIME:20260503T230000
LAST-MODIFIED;TZID=Europe/Zurich;VALUE=DATE-TIME:20260421T063816
DTSTAMP;VALUE=DATE-TIME:20260503T210000Z
LOCATION:Moritzbastei, Universitätsstraße 9, 04109 Leipzig
URL://www.xn--untergrund-blttle-2qb.ch/events/237336/minami-deutsch-ist-eine-krautrock-band-aus-tokio-japan-moritzbastei-leipzig.html
END:VEVENT
BEGIN:VTIMEZONE
TZID:Europe/Zurich
X-LIC-LOCATION:Europe/Zurich
BEGIN:STANDARD
DTSTART;VALUE=DATE-TIME:20260503T210000
TZNAME:CET
TZOFFSETFROM:+0200
TZOFFSETTO:+0100
END:STANDARD
BEGIN:DAYLIGHT
DTSTART;VALUE=DATE-TIME:20260503T210000
TZNAME:CEST
TZOFFSETFROM:+0100
TZOFFSETTO:+0200
END:DAYLIGHT
BEGIN:STANDARD
DTSTART;VALUE=DATE-TIME:20260503T210000
TZNAME:CET
TZOFFSETFROM:+0200
TZOFFSETTO:+0100
END:STANDARD
END:VTIMEZONE
END:VCALENDAR