BEGIN:VCALENDAR
VERSION:2.0
PRODID:-//UB-Event
TZID:Europe/Zurich
X-WR-TIMEZONE:Europe/Zurich
CALSCALE:GREGORIAN
BEGIN:VEVENT
SUMMARY:Vortrag „Neues Polizeigesetz in Sachsen, Palantir und Staatstrojaner“
UID:237310
DTSTART;TZID=Europe/Zurich;VALUE=DATE-TIME:20260530T170000
DTEND;TZID=Europe/Zurich;VALUE=DATE-TIME:20260530T190000
LAST-MODIFIED;TZID=Europe/Zurich;VALUE=DATE-TIME:20260421T062112
DTSTAMP;VALUE=DATE-TIME:20260530T170000Z
LOCATION:Libelle, Kolonnadenstraße 19, 04109 Leipzig
URL://www.xn--untergrund-blttle-2qb.ch/events/237310/vortrag-neues-polizeigesetz-in-sachsen-palantir-und-staatstrojaner-libelle-leipzig.html
END:VEVENT
BEGIN:VTIMEZONE
TZID:Europe/Zurich
X-LIC-LOCATION:Europe/Zurich
BEGIN:STANDARD
DTSTART;VALUE=DATE-TIME:20260530T170000
TZNAME:CET
TZOFFSETFROM:+0200
TZOFFSETTO:+0100
END:STANDARD
BEGIN:DAYLIGHT
DTSTART;VALUE=DATE-TIME:20260530T170000
TZNAME:CEST
TZOFFSETFROM:+0100
TZOFFSETTO:+0200
END:DAYLIGHT
BEGIN:STANDARD
DTSTART;VALUE=DATE-TIME:20260530T170000
TZNAME:CET
TZOFFSETFROM:+0200
TZOFFSETTO:+0100
END:STANDARD
END:VTIMEZONE
END:VCALENDAR