BEGIN:VCALENDAR
VERSION:2.0
PRODID:-//UB-Event
TZID:Europe/Zurich
X-WR-TIMEZONE:Europe/Zurich
CALSCALE:GREGORIAN
BEGIN:VEVENT
SUMMARY:Privacy How-To / Digitale Selbstverteidigung & Küfa
UID:237306
DTSTART;TZID=Europe/Zurich;VALUE=DATE-TIME:20260522T180000
DTEND;TZID=Europe/Zurich;VALUE=DATE-TIME:20260522T200000
LAST-MODIFIED;TZID=Europe/Zurich;VALUE=DATE-TIME:20260421T062055
DTSTAMP;VALUE=DATE-TIME:20260522T180000Z
LOCATION:Libelle, Kolonnadenstraße 19, 04109 Leipzig
URL://www.xn--untergrund-blttle-2qb.ch/events/237306/privacy-how-to-digitale-selbstverteidigung-kuefa-libelle-leipzig.html
END:VEVENT
BEGIN:VTIMEZONE
TZID:Europe/Zurich
X-LIC-LOCATION:Europe/Zurich
BEGIN:STANDARD
DTSTART;VALUE=DATE-TIME:20260522T180000
TZNAME:CET
TZOFFSETFROM:+0200
TZOFFSETTO:+0100
END:STANDARD
BEGIN:DAYLIGHT
DTSTART;VALUE=DATE-TIME:20260522T180000
TZNAME:CEST
TZOFFSETFROM:+0100
TZOFFSETTO:+0200
END:DAYLIGHT
BEGIN:STANDARD
DTSTART;VALUE=DATE-TIME:20260522T180000
TZNAME:CET
TZOFFSETFROM:+0200
TZOFFSETTO:+0100
END:STANDARD
END:VTIMEZONE
END:VCALENDAR