BEGIN:VCALENDAR
VERSION:2.0
PRODID:-//UB-Event
TZID:Europe/Zurich
X-WR-TIMEZONE:Europe/Zurich
CALSCALE:GREGORIAN
BEGIN:VEVENT
SUMMARY:THE LAST KLEZMER – LEOPOLD KOZLOWSKI: HIS LIFE AND MUSIC (GEFÄSS DES LIEDES / TACHELES)
UID:237305
DTSTART;TZID=Europe/Zurich;VALUE=DATE-TIME:20260520T193000
DTEND;TZID=Europe/Zurich;VALUE=DATE-TIME:20260520T213000
LAST-MODIFIED;TZID=Europe/Zurich;VALUE=DATE-TIME:20260421T062052
DTSTAMP;VALUE=DATE-TIME:20260520T193000Z
LOCATION:Cinémathèque, Karl-Liebknecht-Str. 48, 04275 Leipzig
URL://www.xn--untergrund-blttle-2qb.ch/events/237305/the-last-klezmer-leopold-kozlowski-his-life-and-music-gefaess-des-liedes-tacheles-cinematheque-leipzig.html
END:VEVENT
BEGIN:VTIMEZONE
TZID:Europe/Zurich
X-LIC-LOCATION:Europe/Zurich
BEGIN:STANDARD
DTSTART;VALUE=DATE-TIME:20260520T193000
TZNAME:CET
TZOFFSETFROM:+0200
TZOFFSETTO:+0100
END:STANDARD
BEGIN:DAYLIGHT
DTSTART;VALUE=DATE-TIME:20260520T193000
TZNAME:CEST
TZOFFSETFROM:+0100
TZOFFSETTO:+0200
END:DAYLIGHT
BEGIN:STANDARD
DTSTART;VALUE=DATE-TIME:20260520T193000
TZNAME:CET
TZOFFSETFROM:+0200
TZOFFSETTO:+0100
END:STANDARD
END:VTIMEZONE
END:VCALENDAR