BEGIN:VCALENDAR
VERSION:2.0
PRODID:-//UB-Event
TZID:Europe/Zurich
X-WR-TIMEZONE:Europe/Zurich
CALSCALE:GREGORIAN
BEGIN:VEVENT
SUMMARY:Das Kaleidoskop jüdischer Identitäten in Deutschland: Geschichte, Intoleranz und Emotionen
UID:237302
DTSTART;TZID=Europe/Zurich;VALUE=DATE-TIME:20260429T171500
DTEND;TZID=Europe/Zurich;VALUE=DATE-TIME:20260429T191500
LAST-MODIFIED;TZID=Europe/Zurich;VALUE=DATE-TIME:20260421T061951
DTSTAMP;VALUE=DATE-TIME:20260429T171500Z
LOCATION:Trefftz-Bau (Haus A) HTWK, Gustav-Freytag-Straße 43 - 45, 04277 Leipzig
URL://www.xn--untergrund-blttle-2qb.ch/events/237302/das-kaleidoskop-juedischer-identitaeten-in-deutschland-geschichte-intoleranz-und-emotionen-trefftz-bau-haus-a-htwk-leipzig.html
END:VEVENT
BEGIN:VTIMEZONE
TZID:Europe/Zurich
X-LIC-LOCATION:Europe/Zurich
BEGIN:STANDARD
DTSTART;VALUE=DATE-TIME:20260429T171500
TZNAME:CET
TZOFFSETFROM:+0200
TZOFFSETTO:+0100
END:STANDARD
BEGIN:DAYLIGHT
DTSTART;VALUE=DATE-TIME:20260429T171500
TZNAME:CEST
TZOFFSETFROM:+0100
TZOFFSETTO:+0200
END:DAYLIGHT
BEGIN:STANDARD
DTSTART;VALUE=DATE-TIME:20260429T171500
TZNAME:CET
TZOFFSETFROM:+0200
TZOFFSETTO:+0100
END:STANDARD
END:VTIMEZONE
END:VCALENDAR