BEGIN:VCALENDAR
VERSION:2.0
PRODID:-//UB-Event
TZID:Europe/Zurich
X-WR-TIMEZONE:Europe/Zurich
CALSCALE:GREGORIAN
BEGIN:VEVENT
SUMMARY:Die Lili-Elbe-Bibliothek - 250 Jahre trans* und inter* Geschichte in Büchern
UID:237294
DTSTART;TZID=Europe/Zurich;VALUE=DATE-TIME:20260508T200000
DTEND;TZID=Europe/Zurich;VALUE=DATE-TIME:20260508T220000
LAST-MODIFIED;TZID=Europe/Zurich;VALUE=DATE-TIME:20260421T061150
DTSTAMP;VALUE=DATE-TIME:20260508T200000Z
LOCATION:Buchladen Land in Sicht, Eiserne Hand 3, 60318 Frankfurt am Main
URL://www.xn--untergrund-blttle-2qb.ch/events/237294/die-lili-elbe-bibliothek-250-jahre-trans-und-inter-geschichte-in-buechern-buchladen-land-in-sicht-frankfurt-am-main.html
END:VEVENT
BEGIN:VTIMEZONE
TZID:Europe/Zurich
X-LIC-LOCATION:Europe/Zurich
BEGIN:STANDARD
DTSTART;VALUE=DATE-TIME:20260508T200000
TZNAME:CET
TZOFFSETFROM:+0200
TZOFFSETTO:+0100
END:STANDARD
BEGIN:DAYLIGHT
DTSTART;VALUE=DATE-TIME:20260508T200000
TZNAME:CEST
TZOFFSETFROM:+0100
TZOFFSETTO:+0200
END:DAYLIGHT
BEGIN:STANDARD
DTSTART;VALUE=DATE-TIME:20260508T200000
TZNAME:CET
TZOFFSETFROM:+0200
TZOFFSETTO:+0100
END:STANDARD
END:VTIMEZONE
END:VCALENDAR