BEGIN:VCALENDAR
VERSION:2.0
PRODID:-//UB-Event
TZID:Europe/Zurich
X-WR-TIMEZONE:Europe/Zurich
CALSCALE:GREGORIAN
BEGIN:VEVENT
SUMMARY:Film: Ich verstehe Ihren Unmut
UID:237287
DTSTART;TZID=Europe/Zurich;VALUE=DATE-TIME:20260430T180000
DTEND;TZID=Europe/Zurich;VALUE=DATE-TIME:20260430T200000
LAST-MODIFIED;TZID=Europe/Zurich;VALUE=DATE-TIME:20260421T061105
DTSTAMP;VALUE=DATE-TIME:20260430T180000Z
LOCATION:Filmmuseum, Schaumainkai 41, 60596 Frankfurt am Main
URL://www.xn--untergrund-blttle-2qb.ch/events/237287/film-ich-verstehe-ihren-unmut-filmmuseum-frankfurt-am-main.html
END:VEVENT
BEGIN:VTIMEZONE
TZID:Europe/Zurich
X-LIC-LOCATION:Europe/Zurich
BEGIN:STANDARD
DTSTART;VALUE=DATE-TIME:20260430T180000
TZNAME:CET
TZOFFSETFROM:+0200
TZOFFSETTO:+0100
END:STANDARD
BEGIN:DAYLIGHT
DTSTART;VALUE=DATE-TIME:20260430T180000
TZNAME:CEST
TZOFFSETFROM:+0100
TZOFFSETTO:+0200
END:DAYLIGHT
BEGIN:STANDARD
DTSTART;VALUE=DATE-TIME:20260430T180000
TZNAME:CET
TZOFFSETFROM:+0200
TZOFFSETTO:+0100
END:STANDARD
END:VTIMEZONE
END:VCALENDAR