BEGIN:VCALENDAR
VERSION:2.0
PRODID:-//UB-Event
TZID:Europe/Zurich
X-WR-TIMEZONE:Europe/Zurich
CALSCALE:GREGORIAN
BEGIN:VEVENT
SUMMARY:Film: Es begann mit einer Lüge
UID:237285
DTSTART;TZID=Europe/Zurich;VALUE=DATE-TIME:20260424T190000
DTEND;TZID=Europe/Zurich;VALUE=DATE-TIME:20260424T210000
LAST-MODIFIED;TZID=Europe/Zurich;VALUE=DATE-TIME:20260421T061035
DTSTAMP;VALUE=DATE-TIME:20260424T190000Z
LOCATION:Bildungsraum, Schönstraße 28, 60327 Frankfurt am Main
URL://www.xn--untergrund-blttle-2qb.ch/events/237285/film-es-begann-mit-einer-luege-bildungsraum-frankfurt-am-main.html
END:VEVENT
BEGIN:VTIMEZONE
TZID:Europe/Zurich
X-LIC-LOCATION:Europe/Zurich
BEGIN:STANDARD
DTSTART;VALUE=DATE-TIME:20260424T190000
TZNAME:CET
TZOFFSETFROM:+0200
TZOFFSETTO:+0100
END:STANDARD
BEGIN:DAYLIGHT
DTSTART;VALUE=DATE-TIME:20260424T190000
TZNAME:CEST
TZOFFSETFROM:+0100
TZOFFSETTO:+0200
END:DAYLIGHT
BEGIN:STANDARD
DTSTART;VALUE=DATE-TIME:20260424T190000
TZNAME:CET
TZOFFSETFROM:+0200
TZOFFSETTO:+0100
END:STANDARD
END:VTIMEZONE
END:VCALENDAR