BEGIN:VCALENDAR
VERSION:2.0
PRODID:-//UB-Event
TZID:Europe/Zurich
X-WR-TIMEZONE:Europe/Zurich
CALSCALE:GREGORIAN
BEGIN:VEVENT
SUMMARY:Mittwochskafe: Erinnern heisst Staatskritik – Vortrag von Daniel Günther
UID:237267
DTSTART;TZID=Europe/Zurich;VALUE=DATE-TIME:20260422T200000
DTEND;TZID=Europe/Zurich;VALUE=DATE-TIME:20260422T220000
LAST-MODIFIED;TZID=Europe/Zurich;VALUE=DATE-TIME:20260420T064004
DTSTAMP;VALUE=DATE-TIME:20260422T200000Z
LOCATION:Queerkafe im Kafe Marat, Thalkirchner Straße 102, 80337 München
URL://www.xn--untergrund-blttle-2qb.ch/events/237267/mittwochskafe-erinnern-heisst-staatskritik-vortrag-von-daniel-guenther-queerkafe-im-kafe-marat-muenchen.html
END:VEVENT
BEGIN:VTIMEZONE
TZID:Europe/Zurich
X-LIC-LOCATION:Europe/Zurich
BEGIN:STANDARD
DTSTART;VALUE=DATE-TIME:20260422T200000
TZNAME:CET
TZOFFSETFROM:+0200
TZOFFSETTO:+0100
END:STANDARD
BEGIN:DAYLIGHT
DTSTART;VALUE=DATE-TIME:20260422T200000
TZNAME:CEST
TZOFFSETFROM:+0100
TZOFFSETTO:+0200
END:DAYLIGHT
BEGIN:STANDARD
DTSTART;VALUE=DATE-TIME:20260422T200000
TZNAME:CET
TZOFFSETFROM:+0200
TZOFFSETTO:+0100
END:STANDARD
END:VTIMEZONE
END:VCALENDAR