BEGIN:VCALENDAR
VERSION:2.0
PRODID:-//UB-Event
TZID:Europe/Zurich
X-WR-TIMEZONE:Europe/Zurich
CALSCALE:GREGORIAN
BEGIN:VEVENT
SUMMARY:MAD CADDIES EUROPEAN TOUR 2026 Ska-Punk-Legenden aus Kalifornien
UID:237264
DTSTART;TZID=Europe/Zurich;VALUE=DATE-TIME:20260520T210000
DTEND;TZID=Europe/Zurich;VALUE=DATE-TIME:20260520T230000
LAST-MODIFIED;TZID=Europe/Zurich;VALUE=DATE-TIME:20260420T063833
DTSTAMP;VALUE=DATE-TIME:20260520T210000Z
LOCATION:New Backstage, Reitknechtstraße 6, 80639 München
URL://www.xn--untergrund-blttle-2qb.ch/events/237264/mad-caddies-european-tour-2026-ska-punk-legenden-aus-kalifornien-new-backstage-muenchen.html
END:VEVENT
BEGIN:VTIMEZONE
TZID:Europe/Zurich
X-LIC-LOCATION:Europe/Zurich
BEGIN:STANDARD
DTSTART;VALUE=DATE-TIME:20260520T210000
TZNAME:CET
TZOFFSETFROM:+0200
TZOFFSETTO:+0100
END:STANDARD
BEGIN:DAYLIGHT
DTSTART;VALUE=DATE-TIME:20260520T210000
TZNAME:CEST
TZOFFSETFROM:+0100
TZOFFSETTO:+0200
END:DAYLIGHT
BEGIN:STANDARD
DTSTART;VALUE=DATE-TIME:20260520T210000
TZNAME:CET
TZOFFSETFROM:+0200
TZOFFSETTO:+0100
END:STANDARD
END:VTIMEZONE
END:VCALENDAR