BEGIN:VCALENDAR
VERSION:2.0
PRODID:-//UB-Event
TZID:Europe/Zurich
X-WR-TIMEZONE:Europe/Zurich
CALSCALE:GREGORIAN
BEGIN:VEVENT
SUMMARY:VEX (Synthwave/Punk/Dancemachine) - Malmö & Socke-(Punk) Heidelberg/ Gaffa
UID:237229
DTSTART;TZID=Europe/Zurich;VALUE=DATE-TIME:20260514T210000
DTEND;TZID=Europe/Zurich;VALUE=DATE-TIME:20260514T230000
LAST-MODIFIED;TZID=Europe/Zurich;VALUE=DATE-TIME:20260420T063827
DTSTAMP;VALUE=DATE-TIME:20260514T210000Z
LOCATION:Béi Chéz Heinz, Liepmannstraße 7b, 30453 Hannover
URL://www.xn--untergrund-blttle-2qb.ch/events/237229/vex-synthwave-punk-dancemachine-malmoe-socke-punk-heidelberg-gaffa-bei-chez-heinz-hannover.html
END:VEVENT
BEGIN:VTIMEZONE
TZID:Europe/Zurich
X-LIC-LOCATION:Europe/Zurich
BEGIN:STANDARD
DTSTART;VALUE=DATE-TIME:20260514T210000
TZNAME:CET
TZOFFSETFROM:+0200
TZOFFSETTO:+0100
END:STANDARD
BEGIN:DAYLIGHT
DTSTART;VALUE=DATE-TIME:20260514T210000
TZNAME:CEST
TZOFFSETFROM:+0100
TZOFFSETTO:+0200
END:DAYLIGHT
BEGIN:STANDARD
DTSTART;VALUE=DATE-TIME:20260514T210000
TZNAME:CET
TZOFFSETFROM:+0200
TZOFFSETTO:+0100
END:STANDARD
END:VTIMEZONE
END:VCALENDAR