BEGIN:VCALENDAR
VERSION:2.0
PRODID:-//UB-Event
TZID:Europe/Zurich
X-WR-TIMEZONE:Europe/Zurich
CALSCALE:GREGORIAN
BEGIN:VEVENT
SUMMARY:JOSH. – „Und wer singt dann Lieder für Dich?“ – Solo Tour 2026
UID:237225
DTSTART;TZID=Europe/Zurich;VALUE=DATE-TIME:20260511T210000
DTEND;TZID=Europe/Zurich;VALUE=DATE-TIME:20260511T230000
LAST-MODIFIED;TZID=Europe/Zurich;VALUE=DATE-TIME:20260420T063825
DTSTAMP;VALUE=DATE-TIME:20260511T210000Z
LOCATION:Stadthalle, Jan-Wellem-Straße 2, 51065 Köln
URL://www.xn--untergrund-blttle-2qb.ch/events/237225/josh-und-wer-singt-dann-lieder-fuer-dich-solo-tour-2026-stadthalle-koeln.html
END:VEVENT
BEGIN:VTIMEZONE
TZID:Europe/Zurich
X-LIC-LOCATION:Europe/Zurich
BEGIN:STANDARD
DTSTART;VALUE=DATE-TIME:20260511T210000
TZNAME:CET
TZOFFSETFROM:+0200
TZOFFSETTO:+0100
END:STANDARD
BEGIN:DAYLIGHT
DTSTART;VALUE=DATE-TIME:20260511T210000
TZNAME:CEST
TZOFFSETFROM:+0100
TZOFFSETTO:+0200
END:DAYLIGHT
BEGIN:STANDARD
DTSTART;VALUE=DATE-TIME:20260511T210000
TZNAME:CET
TZOFFSETFROM:+0200
TZOFFSETTO:+0100
END:STANDARD
END:VTIMEZONE
END:VCALENDAR