BEGIN:VCALENDAR
VERSION:2.0
PRODID:-//UB-Event
TZID:Europe/Zurich
X-WR-TIMEZONE:Europe/Zurich
CALSCALE:GREGORIAN
BEGIN:VEVENT
SUMMARY:Talk mit Combatants for Peace
UID:237207
DTSTART;TZID=Europe/Zurich;VALUE=DATE-TIME:20260426T183000
DTEND;TZID=Europe/Zurich;VALUE=DATE-TIME:20260426T203000
LAST-MODIFIED;TZID=Europe/Zurich;VALUE=DATE-TIME:20260422T055010
DTSTAMP;VALUE=DATE-TIME:20260426T183000Z
LOCATION:Oval Office Bar, Saladin-Schmitt-Straße 2, 44789 Bochum
URL://www.xn--untergrund-blttle-2qb.ch/events/237207/talk-mit-combatants-for-peace-oval-office-bar-bochum.html
END:VEVENT
BEGIN:VTIMEZONE
TZID:Europe/Zurich
X-LIC-LOCATION:Europe/Zurich
BEGIN:STANDARD
DTSTART;VALUE=DATE-TIME:20260426T183000
TZNAME:CET
TZOFFSETFROM:+0200
TZOFFSETTO:+0100
END:STANDARD
BEGIN:DAYLIGHT
DTSTART;VALUE=DATE-TIME:20260426T183000
TZNAME:CEST
TZOFFSETFROM:+0100
TZOFFSETTO:+0200
END:DAYLIGHT
BEGIN:STANDARD
DTSTART;VALUE=DATE-TIME:20260426T183000
TZNAME:CET
TZOFFSETFROM:+0200
TZOFFSETTO:+0100
END:STANDARD
END:VTIMEZONE
END:VCALENDAR