BEGIN:VCALENDAR
VERSION:2.0
PRODID:-//UB-Event
TZID:Europe/Zurich
X-WR-TIMEZONE:Europe/Zurich
CALSCALE:GREGORIAN
BEGIN:VEVENT
SUMMARY:u23 2026 - Self Hosting. Jetzt anmelden!
UID:237205
DTSTART;TZID=Europe/Zurich;VALUE=DATE-TIME:20260530T120000
DTEND;TZID=Europe/Zurich;VALUE=DATE-TIME:20260530T140000
LAST-MODIFIED;TZID=Europe/Zurich;VALUE=DATE-TIME:20260422T054703
DTSTAMP;VALUE=DATE-TIME:20260530T120000Z
LOCATION:Chaos Computer Club Cologne - Heliosstrasse 6a - Köln-Ehrenfeld, Heliosstraße 6a, 50825 Köln
URL://www.xn--untergrund-blttle-2qb.ch/events/237205/u23-2026-self-hosting-jetzt-anmelden-chaos-computer-club-cologne-heliosstrasse-6a-koeln-ehrenfeld-koeln.html
END:VEVENT
BEGIN:VTIMEZONE
TZID:Europe/Zurich
X-LIC-LOCATION:Europe/Zurich
BEGIN:STANDARD
DTSTART;VALUE=DATE-TIME:20260530T120000
TZNAME:CET
TZOFFSETFROM:+0200
TZOFFSETTO:+0100
END:STANDARD
BEGIN:DAYLIGHT
DTSTART;VALUE=DATE-TIME:20260530T120000
TZNAME:CEST
TZOFFSETFROM:+0100
TZOFFSETTO:+0200
END:DAYLIGHT
BEGIN:STANDARD
DTSTART;VALUE=DATE-TIME:20260530T120000
TZNAME:CET
TZOFFSETFROM:+0200
TZOFFSETTO:+0100
END:STANDARD
END:VTIMEZONE
END:VCALENDAR