BEGIN:VCALENDAR
VERSION:2.0
PRODID:-//UB-Event
TZID:Europe/Zurich
X-WR-TIMEZONE:Europe/Zurich
CALSCALE:GREGORIAN
BEGIN:VEVENT
SUMMARY:Black Pigeon Öffnungszeiten
UID:237189
DTSTART;TZID=Europe/Zurich;VALUE=DATE-TIME:20260501T130000
DTEND;TZID=Europe/Zurich;VALUE=DATE-TIME:20260501T150000
LAST-MODIFIED;TZID=Europe/Zurich;VALUE=DATE-TIME:20260420T061111
DTSTAMP;VALUE=DATE-TIME:20260501T130000Z
LOCATION:Black Pigeon, Scharnhorststraße 50, 44147 Dortmund
URL://www.xn--untergrund-blttle-2qb.ch/events/237189/black-pigeon-oeffnungszeiten-black-pigeon-dortmund.html
END:VEVENT
BEGIN:VTIMEZONE
TZID:Europe/Zurich
X-LIC-LOCATION:Europe/Zurich
BEGIN:STANDARD
DTSTART;VALUE=DATE-TIME:20260501T130000
TZNAME:CET
TZOFFSETFROM:+0200
TZOFFSETTO:+0100
END:STANDARD
BEGIN:DAYLIGHT
DTSTART;VALUE=DATE-TIME:20260501T130000
TZNAME:CEST
TZOFFSETFROM:+0100
TZOFFSETTO:+0200
END:DAYLIGHT
BEGIN:STANDARD
DTSTART;VALUE=DATE-TIME:20260501T130000
TZNAME:CET
TZOFFSETFROM:+0200
TZOFFSETTO:+0100
END:STANDARD
END:VTIMEZONE
END:VCALENDAR