BEGIN:VCALENDAR
VERSION:2.0
PRODID:-//UB-Event
TZID:Europe/Zurich
X-WR-TIMEZONE:Europe/Zurich
CALSCALE:GREGORIAN
BEGIN:VEVENT
SUMMARY:Voodoo Jürgens und die "Ansa Panier" LIVE 2026
UID:237165
DTSTART;TZID=Europe/Zurich;VALUE=DATE-TIME:20260519T210000
DTEND;TZID=Europe/Zurich;VALUE=DATE-TIME:20260519T230000
LAST-MODIFIED;TZID=Europe/Zurich;VALUE=DATE-TIME:20260419T063833
DTSTAMP;VALUE=DATE-TIME:20260519T210000Z
LOCATION:Zakk, Fichtenstraße 40, 40233 Düsseldorf
URL://www.xn--untergrund-blttle-2qb.ch/events/237165/voodoo-juergens-und-die-ansa-panier-live-2026-zakk-duesseldorf.html
END:VEVENT
BEGIN:VTIMEZONE
TZID:Europe/Zurich
X-LIC-LOCATION:Europe/Zurich
BEGIN:STANDARD
DTSTART;VALUE=DATE-TIME:20260519T210000
TZNAME:CET
TZOFFSETFROM:+0200
TZOFFSETTO:+0100
END:STANDARD
BEGIN:DAYLIGHT
DTSTART;VALUE=DATE-TIME:20260519T210000
TZNAME:CEST
TZOFFSETFROM:+0100
TZOFFSETTO:+0200
END:DAYLIGHT
BEGIN:STANDARD
DTSTART;VALUE=DATE-TIME:20260519T210000
TZNAME:CET
TZOFFSETFROM:+0200
TZOFFSETTO:+0100
END:STANDARD
END:VTIMEZONE
END:VCALENDAR