BEGIN:VCALENDAR
VERSION:2.0
PRODID:-//UB-Event
TZID:Europe/Zurich
X-WR-TIMEZONE:Europe/Zurich
CALSCALE:GREGORIAN
BEGIN:VEVENT
SUMMARY:LEAP (uk)
UID:237136
DTSTART;TZID=Europe/Zurich;VALUE=DATE-TIME:20260426T200000
DTEND;TZID=Europe/Zurich;VALUE=DATE-TIME:20260426T220000
LAST-MODIFIED;TZID=Europe/Zurich;VALUE=DATE-TIME:20260420T060926
DTSTAMP;VALUE=DATE-TIME:20260426T200000Z
LOCATION:Conrad Sohm, Boden 1, 6850 Dornbirn
URL://www.xn--untergrund-blttle-2qb.ch/events/237136/leap-uk-conrad-sohm-dornbirn.html
END:VEVENT
BEGIN:VTIMEZONE
TZID:Europe/Zurich
X-LIC-LOCATION:Europe/Zurich
BEGIN:STANDARD
DTSTART;VALUE=DATE-TIME:20260426T200000
TZNAME:CET
TZOFFSETFROM:+0200
TZOFFSETTO:+0100
END:STANDARD
BEGIN:DAYLIGHT
DTSTART;VALUE=DATE-TIME:20260426T200000
TZNAME:CEST
TZOFFSETFROM:+0100
TZOFFSETTO:+0200
END:DAYLIGHT
BEGIN:STANDARD
DTSTART;VALUE=DATE-TIME:20260426T200000
TZNAME:CET
TZOFFSETFROM:+0200
TZOFFSETTO:+0100
END:STANDARD
END:VTIMEZONE
END:VCALENDAR