BEGIN:VCALENDAR
VERSION:2.0
PRODID:-//UB-Event
TZID:Europe/Zurich
X-WR-TIMEZONE:Europe/Zurich
CALSCALE:GREGORIAN
BEGIN:VEVENT
SUMMARY:"Was bewegt..? FLINTA* move"
UID:237121
DTSTART;TZID=Europe/Zurich;VALUE=DATE-TIME:20260423T194500
DTEND;TZID=Europe/Zurich;VALUE=DATE-TIME:20260423T214500
LAST-MODIFIED;TZID=Europe/Zurich;VALUE=DATE-TIME:20260418T071522
DTSTAMP;VALUE=DATE-TIME:20260423T194500Z
LOCATION:Feministisches Zentrum, Grethergelände 20, 79098 Freiburg im Breisgau
URL://www.xn--untergrund-blttle-2qb.ch/events/237121/was-bewegt-flinta-move-feministisches-zentrum-freiburg-im-breisgau.html
END:VEVENT
BEGIN:VTIMEZONE
TZID:Europe/Zurich
X-LIC-LOCATION:Europe/Zurich
BEGIN:STANDARD
DTSTART;VALUE=DATE-TIME:20260423T194500
TZNAME:CET
TZOFFSETFROM:+0200
TZOFFSETTO:+0100
END:STANDARD
BEGIN:DAYLIGHT
DTSTART;VALUE=DATE-TIME:20260423T194500
TZNAME:CEST
TZOFFSETFROM:+0100
TZOFFSETTO:+0200
END:DAYLIGHT
BEGIN:STANDARD
DTSTART;VALUE=DATE-TIME:20260423T194500
TZNAME:CET
TZOFFSETFROM:+0200
TZOFFSETTO:+0100
END:STANDARD
END:VTIMEZONE
END:VCALENDAR