BEGIN:VCALENDAR
VERSION:2.0
PRODID:-//UB-Event
TZID:Europe/Zurich
X-WR-TIMEZONE:Europe/Zurich
CALSCALE:GREGORIAN
BEGIN:VEVENT
SUMMARY:offener Gartentreff im Gemeinschaftsgarten "zusammen gärtnern" von zusammen leben e.V.
UID:237118
DTSTART;TZID=Europe/Zurich;VALUE=DATE-TIME:20260423T163000
DTEND;TZID=Europe/Zurich;VALUE=DATE-TIME:20260423T183000
LAST-MODIFIED;TZID=Europe/Zurich;VALUE=DATE-TIME:20260418T071520
DTSTAMP;VALUE=DATE-TIME:20260423T163000Z
LOCATION:Gemeinschaftsgarten 'zusammen gärtnern', Weierweg 41, 79111 Freiburg im Breisgau
URL://www.xn--untergrund-blttle-2qb.ch/events/237118/offener-gartentreff-im-gemeinschaftsgarten-zusammen-gaertnern-von-zusammen-leben-e-v-gemeinschaftsgarten-zusammen-gaertnern-freiburg-im-breisgau.html
END:VEVENT
BEGIN:VTIMEZONE
TZID:Europe/Zurich
X-LIC-LOCATION:Europe/Zurich
BEGIN:STANDARD
DTSTART;VALUE=DATE-TIME:20260423T163000
TZNAME:CET
TZOFFSETFROM:+0200
TZOFFSETTO:+0100
END:STANDARD
BEGIN:DAYLIGHT
DTSTART;VALUE=DATE-TIME:20260423T163000
TZNAME:CEST
TZOFFSETFROM:+0100
TZOFFSETTO:+0200
END:DAYLIGHT
BEGIN:STANDARD
DTSTART;VALUE=DATE-TIME:20260423T163000
TZNAME:CET
TZOFFSETFROM:+0200
TZOFFSETTO:+0100
END:STANDARD
END:VTIMEZONE
END:VCALENDAR