BEGIN:VCALENDAR
VERSION:2.0
PRODID:-//UB-Event
TZID:Europe/Zurich
X-WR-TIMEZONE:Europe/Zurich
CALSCALE:GREGORIAN
BEGIN:VEVENT
SUMMARY:Sommer, Sonne, Sozialismus!
UID:237110
DTSTART;TZID=Europe/Zurich;VALUE=DATE-TIME:20260423T150000
DTEND;TZID=Europe/Zurich;VALUE=DATE-TIME:20260423T170000
LAST-MODIFIED;TZID=Europe/Zurich;VALUE=DATE-TIME:20260418T071518
DTSTAMP;VALUE=DATE-TIME:20260423T150000Z
LOCATION:Stadtgarten, Jacob-Burckhardt-Strasse/Leopoldring, 79098 Freiburg im Breisgau
URL://www.xn--untergrund-blttle-2qb.ch/events/237110/sommer-sonne-sozialismus-stadtgarten-freiburg-im-breisgau.html
END:VEVENT
BEGIN:VTIMEZONE
TZID:Europe/Zurich
X-LIC-LOCATION:Europe/Zurich
BEGIN:STANDARD
DTSTART;VALUE=DATE-TIME:20260423T150000
TZNAME:CET
TZOFFSETFROM:+0200
TZOFFSETTO:+0100
END:STANDARD
BEGIN:DAYLIGHT
DTSTART;VALUE=DATE-TIME:20260423T150000
TZNAME:CEST
TZOFFSETFROM:+0100
TZOFFSETTO:+0200
END:DAYLIGHT
BEGIN:STANDARD
DTSTART;VALUE=DATE-TIME:20260423T150000
TZNAME:CET
TZOFFSETFROM:+0200
TZOFFSETTO:+0100
END:STANDARD
END:VTIMEZONE
END:VCALENDAR