BEGIN:VCALENDAR
VERSION:2.0
PRODID:-//UB-Event
TZID:Europe/Zurich
X-WR-TIMEZONE:Europe/Zurich
CALSCALE:GREGORIAN
BEGIN:VEVENT
SUMMARY:Fractal Nights w/ Den Der Hale (SWE)
UID:237107
DTSTART;TZID=Europe/Zurich;VALUE=DATE-TIME:20260425T190000
DTEND;TZID=Europe/Zurich;VALUE=DATE-TIME:20260425T210000
LAST-MODIFIED;TZID=Europe/Zurich;VALUE=DATE-TIME:20260420T060920
DTSTAMP;VALUE=DATE-TIME:20260425T190000Z
LOCATION:kollektiv kaorle, Stiftgasse 8, 1070 Wien
URL://www.xn--untergrund-blttle-2qb.ch/events/237107/fractal-nights-w-den-der-hale-swe-kollektiv-kaorle-wien.html
END:VEVENT
BEGIN:VTIMEZONE
TZID:Europe/Zurich
X-LIC-LOCATION:Europe/Zurich
BEGIN:STANDARD
DTSTART;VALUE=DATE-TIME:20260425T190000
TZNAME:CET
TZOFFSETFROM:+0200
TZOFFSETTO:+0100
END:STANDARD
BEGIN:DAYLIGHT
DTSTART;VALUE=DATE-TIME:20260425T190000
TZNAME:CEST
TZOFFSETFROM:+0100
TZOFFSETTO:+0200
END:DAYLIGHT
BEGIN:STANDARD
DTSTART;VALUE=DATE-TIME:20260425T190000
TZNAME:CET
TZOFFSETFROM:+0200
TZOFFSETTO:+0100
END:STANDARD
END:VTIMEZONE
END:VCALENDAR