BEGIN:VCALENDAR
VERSION:2.0
PRODID:-//UB-Event
TZID:Europe/Zurich
X-WR-TIMEZONE:Europe/Zurich
CALSCALE:GREGORIAN
BEGIN:VEVENT
SUMMARY:Cemetery Skyline ist eine finnisch-schwedische Gothic-Rock-/Dark-Rock-Band
UID:237084
DTSTART;TZID=Europe/Zurich;VALUE=DATE-TIME:20260518T210000
DTEND;TZID=Europe/Zurich;VALUE=DATE-TIME:20260518T230000
LAST-MODIFIED;TZID=Europe/Zurich;VALUE=DATE-TIME:20260418T063835
DTSTAMP;VALUE=DATE-TIME:20260518T210000Z
LOCATION:New Backstage, Reitknechtstraße 6, 80639 München
URL://www.xn--untergrund-blttle-2qb.ch/events/237084/cemetery-skyline-ist-eine-finnisch-schwedische-gothic-rock-dark-rock-band-new-backstage-muenchen.html
END:VEVENT
BEGIN:VTIMEZONE
TZID:Europe/Zurich
X-LIC-LOCATION:Europe/Zurich
BEGIN:STANDARD
DTSTART;VALUE=DATE-TIME:20260518T210000
TZNAME:CET
TZOFFSETFROM:+0200
TZOFFSETTO:+0100
END:STANDARD
BEGIN:DAYLIGHT
DTSTART;VALUE=DATE-TIME:20260518T210000
TZNAME:CEST
TZOFFSETFROM:+0100
TZOFFSETTO:+0200
END:DAYLIGHT
BEGIN:STANDARD
DTSTART;VALUE=DATE-TIME:20260518T210000
TZNAME:CET
TZOFFSETFROM:+0200
TZOFFSETTO:+0100
END:STANDARD
END:VTIMEZONE
END:VCALENDAR