BEGIN:VCALENDAR
VERSION:2.0
PRODID:-//UB-Event
TZID:Europe/Zurich
X-WR-TIMEZONE:Europe/Zurich
CALSCALE:GREGORIAN
BEGIN:VEVENT
SUMMARY:Maria Clara Groppler "Meerjungfrau" Tour 2026
UID:237065
DTSTART;TZID=Europe/Zurich;VALUE=DATE-TIME:20260518T210000
DTEND;TZID=Europe/Zurich;VALUE=DATE-TIME:20260518T230000
LAST-MODIFIED;TZID=Europe/Zurich;VALUE=DATE-TIME:20260418T063834
DTSTAMP;VALUE=DATE-TIME:20260518T210000Z
LOCATION:Jazzhaus, Schnewlinstraße 1, 79098 Freiburg im Breisgau
URL://www.xn--untergrund-blttle-2qb.ch/events/237065/maria-clara-groppler-meerjungfrau-tour-2026-jazzhaus-freiburg-im-breisgau.html
END:VEVENT
BEGIN:VTIMEZONE
TZID:Europe/Zurich
X-LIC-LOCATION:Europe/Zurich
BEGIN:STANDARD
DTSTART;VALUE=DATE-TIME:20260518T210000
TZNAME:CET
TZOFFSETFROM:+0200
TZOFFSETTO:+0100
END:STANDARD
BEGIN:DAYLIGHT
DTSTART;VALUE=DATE-TIME:20260518T210000
TZNAME:CEST
TZOFFSETFROM:+0100
TZOFFSETTO:+0200
END:DAYLIGHT
BEGIN:STANDARD
DTSTART;VALUE=DATE-TIME:20260518T210000
TZNAME:CET
TZOFFSETFROM:+0200
TZOFFSETTO:+0100
END:STANDARD
END:VTIMEZONE
END:VCALENDAR