BEGIN:VCALENDAR
VERSION:2.0
PRODID:-//UB-Event
TZID:Europe/Zurich
X-WR-TIMEZONE:Europe/Zurich
CALSCALE:GREGORIAN
BEGIN:VEVENT
SUMMARY:Guitarmania 2026 Krissy Matthews (UK) Russell Marsden (Band Of Skulls / UK) Jax
UID:237058
DTSTART;TZID=Europe/Zurich;VALUE=DATE-TIME:20260518T210000
DTEND;TZID=Europe/Zurich;VALUE=DATE-TIME:20260518T230000
LAST-MODIFIED;TZID=Europe/Zurich;VALUE=DATE-TIME:20260418T063834
DTSTAMP;VALUE=DATE-TIME:20260518T210000Z
LOCATION:Rockhouse, Schallmooser Hauptstraße 46, 5020 Salzburg
URL://www.xn--untergrund-blttle-2qb.ch/events/237058/guitarmania-2026-krissy-matthews-uk-russell-marsden-band-of-skulls-uk-jax-rockhouse-salzburg.html
END:VEVENT
BEGIN:VTIMEZONE
TZID:Europe/Zurich
X-LIC-LOCATION:Europe/Zurich
BEGIN:STANDARD
DTSTART;VALUE=DATE-TIME:20260518T210000
TZNAME:CET
TZOFFSETFROM:+0200
TZOFFSETTO:+0100
END:STANDARD
BEGIN:DAYLIGHT
DTSTART;VALUE=DATE-TIME:20260518T210000
TZNAME:CEST
TZOFFSETFROM:+0100
TZOFFSETTO:+0200
END:DAYLIGHT
BEGIN:STANDARD
DTSTART;VALUE=DATE-TIME:20260518T210000
TZNAME:CET
TZOFFSETFROM:+0200
TZOFFSETTO:+0100
END:STANDARD
END:VTIMEZONE
END:VCALENDAR