BEGIN:VCALENDAR
VERSION:2.0
PRODID:-//UB-Event
TZID:Europe/Zurich
X-WR-TIMEZONE:Europe/Zurich
CALSCALE:GREGORIAN
BEGIN:VEVENT
SUMMARY:‪ TRUSTFUNDBABES SUPPORT: DIE FEIGEN FLITTCHEN ( - Top Ten Bar)
UID:237023
DTSTART;TZID=Europe/Zurich;VALUE=DATE-TIME:20260515T210000
DTEND;TZID=Europe/Zurich;VALUE=DATE-TIME:20260515T230000
LAST-MODIFIED;TZID=Europe/Zurich;VALUE=DATE-TIME:20260418T063832
DTSTAMP;VALUE=DATE-TIME:20260515T210000Z
LOCATION:Molotow, Reeperbahn 136, 20359 Hamburg
URL://www.xn--untergrund-blttle-2qb.ch/events/237023/trustfundbabes-support-die-feigen-flittchen-top-ten-bar-molotow-hamburg.html
END:VEVENT
BEGIN:VTIMEZONE
TZID:Europe/Zurich
X-LIC-LOCATION:Europe/Zurich
BEGIN:STANDARD
DTSTART;VALUE=DATE-TIME:20260515T210000
TZNAME:CET
TZOFFSETFROM:+0200
TZOFFSETTO:+0100
END:STANDARD
BEGIN:DAYLIGHT
DTSTART;VALUE=DATE-TIME:20260515T210000
TZNAME:CEST
TZOFFSETFROM:+0100
TZOFFSETTO:+0200
END:DAYLIGHT
BEGIN:STANDARD
DTSTART;VALUE=DATE-TIME:20260515T210000
TZNAME:CET
TZOFFSETFROM:+0200
TZOFFSETTO:+0100
END:STANDARD
END:VTIMEZONE
END:VCALENDAR