BEGIN:VCALENDAR
VERSION:2.0
PRODID:-//UB-Event
TZID:Europe/Zurich
X-WR-TIMEZONE:Europe/Zurich
CALSCALE:GREGORIAN
BEGIN:VEVENT
SUMMARY:The Jackson Pollock Garage,Punk, (Bologna) & Lolita terrorist sounds, new Wave, Post Punk (Berlin)
UID:237017
DTSTART;TZID=Europe/Zurich;VALUE=DATE-TIME:20260424T210000
DTEND;TZID=Europe/Zurich;VALUE=DATE-TIME:20260424T230000
LAST-MODIFIED;TZID=Europe/Zurich;VALUE=DATE-TIME:20260420T060603
DTSTAMP;VALUE=DATE-TIME:20260424T210000Z
LOCATION:Gängeviertel, Valentinskamp 34, 20355 Hamburg
URL://www.xn--untergrund-blttle-2qb.ch/events/237017/the-jackson-pollock-garage-punk-bologna-lolita-terrorist-sounds-new-wave-post-punk-berlin-gaengeviertel-hamburg.html
END:VEVENT
BEGIN:VTIMEZONE
TZID:Europe/Zurich
X-LIC-LOCATION:Europe/Zurich
BEGIN:STANDARD
DTSTART;VALUE=DATE-TIME:20260424T210000
TZNAME:CET
TZOFFSETFROM:+0200
TZOFFSETTO:+0100
END:STANDARD
BEGIN:DAYLIGHT
DTSTART;VALUE=DATE-TIME:20260424T210000
TZNAME:CEST
TZOFFSETFROM:+0100
TZOFFSETTO:+0200
END:DAYLIGHT
BEGIN:STANDARD
DTSTART;VALUE=DATE-TIME:20260424T210000
TZNAME:CET
TZOFFSETFROM:+0200
TZOFFSETTO:+0100
END:STANDARD
END:VTIMEZONE
END:VCALENDAR