BEGIN:VCALENDAR
VERSION:2.0
PRODID:-//UB-Event
TZID:Europe/Zurich
X-WR-TIMEZONE:Europe/Zurich
CALSCALE:GREGORIAN
BEGIN:VEVENT
SUMMARY:Soli-Night for ROSA: La Washa & Spielzeug & Temporäre Objekte @ SchloR
UID:237009
DTSTART;TZID=Europe/Zurich;VALUE=DATE-TIME:20260430T190000
DTEND;TZID=Europe/Zurich;VALUE=DATE-TIME:20260430T210000
LAST-MODIFIED;TZID=Europe/Zurich;VALUE=DATE-TIME:20260420T110816
DTSTAMP;VALUE=DATE-TIME:20260430T190000Z
LOCATION:SchloR,  Rappachgasse 26, 1110 Wien
URL://www.xn--untergrund-blttle-2qb.ch/events/237009/soli-night-for-rosa-la-washa-spielzeug-temporaere-objekte-schlor-schlor-wien.html
END:VEVENT
BEGIN:VTIMEZONE
TZID:Europe/Zurich
X-LIC-LOCATION:Europe/Zurich
BEGIN:STANDARD
DTSTART;VALUE=DATE-TIME:20260430T190000
TZNAME:CET
TZOFFSETFROM:+0200
TZOFFSETTO:+0100
END:STANDARD
BEGIN:DAYLIGHT
DTSTART;VALUE=DATE-TIME:20260430T190000
TZNAME:CEST
TZOFFSETFROM:+0100
TZOFFSETTO:+0200
END:DAYLIGHT
BEGIN:STANDARD
DTSTART;VALUE=DATE-TIME:20260430T190000
TZNAME:CET
TZOFFSETFROM:+0200
TZOFFSETTO:+0100
END:STANDARD
END:VTIMEZONE
END:VCALENDAR