BEGIN:VCALENDAR
VERSION:2.0
PRODID:-//UB-Event
TZID:Europe/Zurich
X-WR-TIMEZONE:Europe/Zurich
CALSCALE:GREGORIAN
BEGIN:VEVENT
SUMMARY:Anarchistischer Block 1. Mai Demo ZH
UID:237005
DTSTART;TZID=Europe/Zurich;VALUE=DATE-TIME:20260501T100000
DTEND;TZID=Europe/Zurich;VALUE=DATE-TIME:20260501T120000
LAST-MODIFIED;TZID=Europe/Zurich;VALUE=DATE-TIME:20260420T055303
DTSTAMP;VALUE=DATE-TIME:20260501T100000Z
LOCATION:nitsch Museum, Waldstraße 44-46, 2130 Mistelbach
URL://www.xn--untergrund-blttle-2qb.ch/events/237005/anarchistischer-block-1-mai-demo-zh-nitsch-museum-mistelbach.html
END:VEVENT
BEGIN:VTIMEZONE
TZID:Europe/Zurich
X-LIC-LOCATION:Europe/Zurich
BEGIN:STANDARD
DTSTART;VALUE=DATE-TIME:20260501T100000
TZNAME:CET
TZOFFSETFROM:+0200
TZOFFSETTO:+0100
END:STANDARD
BEGIN:DAYLIGHT
DTSTART;VALUE=DATE-TIME:20260501T100000
TZNAME:CEST
TZOFFSETFROM:+0100
TZOFFSETTO:+0200
END:DAYLIGHT
BEGIN:STANDARD
DTSTART;VALUE=DATE-TIME:20260501T100000
TZNAME:CET
TZOFFSETFROM:+0200
TZOFFSETTO:+0100
END:STANDARD
END:VTIMEZONE
END:VCALENDAR