BEGIN:VCALENDAR
VERSION:2.0
PRODID:-//UB-Event
TZID:Europe/Zurich
X-WR-TIMEZONE:Europe/Zurich
CALSCALE:GREGORIAN
BEGIN:VEVENT
SUMMARY:Offenes BAT Plenum
UID:237001
DTSTART;TZID=Europe/Zurich;VALUE=DATE-TIME:20260520T183000
DTEND;TZID=Europe/Zurich;VALUE=DATE-TIME:20260520T203000
LAST-MODIFIED;TZID=Europe/Zurich;VALUE=DATE-TIME:20260420T055022
DTSTAMP;VALUE=DATE-TIME:20260520T183000Z
LOCATION:Soziales Zentrum, Josephstrasse 2, 44791 Bochum
URL://www.xn--untergrund-blttle-2qb.ch/events/237001/offenes-bat-plenum-soziales-zentrum-bochum.html
END:VEVENT
BEGIN:VTIMEZONE
TZID:Europe/Zurich
X-LIC-LOCATION:Europe/Zurich
BEGIN:STANDARD
DTSTART;VALUE=DATE-TIME:20260520T183000
TZNAME:CET
TZOFFSETFROM:+0200
TZOFFSETTO:+0100
END:STANDARD
BEGIN:DAYLIGHT
DTSTART;VALUE=DATE-TIME:20260520T183000
TZNAME:CEST
TZOFFSETFROM:+0100
TZOFFSETTO:+0200
END:DAYLIGHT
BEGIN:STANDARD
DTSTART;VALUE=DATE-TIME:20260520T183000
TZNAME:CET
TZOFFSETFROM:+0200
TZOFFSETTO:+0100
END:STANDARD
END:VTIMEZONE
END:VCALENDAR