BEGIN:VCALENDAR
VERSION:2.0
PRODID:-//UB-Event
TZID:Europe/Zurich
X-WR-TIMEZONE:Europe/Zurich
CALSCALE:GREGORIAN
BEGIN:VEVENT
SUMMARY:GARRROT (Noise-Punk – Nancy, FR) SuperCheri (In gewisser Weise Funk, in
UID:236994
DTSTART;TZID=Europe/Zurich;VALUE=DATE-TIME:20260425T210000
DTEND;TZID=Europe/Zurich;VALUE=DATE-TIME:20260425T230000
LAST-MODIFIED;TZID=Europe/Zurich;VALUE=DATE-TIME:20260419T063809
DTSTAMP;VALUE=DATE-TIME:20260425T210000Z
LOCATION:Volksbühne Berlin, Linienstraße 227, 10178 Berlin
URL://www.xn--untergrund-blttle-2qb.ch/events/236994/garrrot-noise-punk-nancy-fr-supercheri-in-gewisser-weise-funk-in-volksbuehne-berlin-berlin.html
END:VEVENT
BEGIN:VTIMEZONE
TZID:Europe/Zurich
X-LIC-LOCATION:Europe/Zurich
BEGIN:STANDARD
DTSTART;VALUE=DATE-TIME:20260425T210000
TZNAME:CET
TZOFFSETFROM:+0200
TZOFFSETTO:+0100
END:STANDARD
BEGIN:DAYLIGHT
DTSTART;VALUE=DATE-TIME:20260425T210000
TZNAME:CEST
TZOFFSETFROM:+0100
TZOFFSETTO:+0200
END:DAYLIGHT
BEGIN:STANDARD
DTSTART;VALUE=DATE-TIME:20260425T210000
TZNAME:CET
TZOFFSETFROM:+0200
TZOFFSETTO:+0100
END:STANDARD
END:VTIMEZONE
END:VCALENDAR