BEGIN:VCALENDAR
VERSION:2.0
PRODID:-//UB-Event
TZID:Europe/Zurich
X-WR-TIMEZONE:Europe/Zurich
CALSCALE:GREGORIAN
BEGIN:VEVENT
SUMMARY:‪THE SOPHS Support: PYNCHER EUROPE 2026 TOUR
UID:236992
DTSTART;TZID=Europe/Zurich;VALUE=DATE-TIME:20260428T210000
DTEND;TZID=Europe/Zurich;VALUE=DATE-TIME:20260428T230000
LAST-MODIFIED;TZID=Europe/Zurich;VALUE=DATE-TIME:20260418T063815
DTSTAMP;VALUE=DATE-TIME:20260428T210000Z
LOCATION:Molotow, Reeperbahn 136, 20359 Hamburg
URL://www.xn--untergrund-blttle-2qb.ch/events/236992/the-sophs-support-pyncher-europe-2026-tour-molotow-hamburg.html
END:VEVENT
BEGIN:VTIMEZONE
TZID:Europe/Zurich
X-LIC-LOCATION:Europe/Zurich
BEGIN:STANDARD
DTSTART;VALUE=DATE-TIME:20260428T210000
TZNAME:CET
TZOFFSETFROM:+0200
TZOFFSETTO:+0100
END:STANDARD
BEGIN:DAYLIGHT
DTSTART;VALUE=DATE-TIME:20260428T210000
TZNAME:CEST
TZOFFSETFROM:+0100
TZOFFSETTO:+0200
END:DAYLIGHT
BEGIN:STANDARD
DTSTART;VALUE=DATE-TIME:20260428T210000
TZNAME:CET
TZOFFSETFROM:+0200
TZOFFSETTO:+0100
END:STANDARD
END:VTIMEZONE
END:VCALENDAR